BEGIN:VCALENDAR
VERSION:2.0
PRODID:-//Novatek International - ECPv6.15.20//NONSGML v1.0//EN
CALSCALE:GREGORIAN
METHOD:PUBLISH
X-WR-CALNAME:Novatek International
X-ORIGINAL-URL:https://ntint.com
X-WR-CALDESC:Events for Novatek International
REFRESH-INTERVAL;VALUE=DURATION:PT1H
X-Robots-Tag:noindex
X-PUBLISHED-TTL:PT1H
BEGIN:VTIMEZONE
TZID:UTC
BEGIN:STANDARD
TZOFFSETFROM:+0000
TZOFFSETTO:+0000
TZNAME:UTC
DTSTART:20250101T000000
END:STANDARD
END:VTIMEZONE
BEGIN:VTIMEZONE
TZID:Asia/Singapore
BEGIN:STANDARD
TZOFFSETFROM:+0800
TZOFFSETTO:+0800
TZNAME:+08
DTSTART:20250101T000000
END:STANDARD
END:VTIMEZONE
BEGIN:VEVENT
DTSTART;VALUE=DATE:20260421
DTEND;VALUE=DATE:20260424
DTSTAMP:20260423T221915
CREATED:20260408T154758Z
LAST-MODIFIED:20260417T143843Z
UID:20405-1776729600-1776988799@ntint.com
SUMMARY:Interphex 2026
DESCRIPTION:Connect with Nicholas Gavrielides and Sarah Alimirzaei at the Interphex 2026 show in New York.\n  \nRegister Here: https://www.interphex.com/en-us/pricing-page.html \n  \nINTERPHEX\, the leading global pharmaceutical and biotechnology event that fuses industry innovation with expert-led conference. Taking place at the Javits Center NYC on April 21-23\, 2026\, INTERPHEX offers an expansive exhibition floor showcasing cutting-edge products and services from industry leaders. Attendees and exhibitors engage in enlightening seminars led by experts\, delve into technology showcases spotlighting the latest innovations\, and benefit from unparalleled networking opportunities. This dynamic platform unites professionals\, fostering collaborations and providing a comprehensive view of advancements in pharmaceutical manufacturing\, process development\, and regulatory compliance. Elevate your industry knowledge\, connect with key stakeholders\, and stay at the forefront of pharmaceutical innovation at INTERPHEX.
URL:https://ntint.com/event/interphex-2026/
LOCATION:Javits Center\, NYC\, 429 11th avenue\, New York\, NY\, 10001\, United States
ATTACH;FMTTYPE=image/png:https://ntint.com/wp-content/uploads/2026/04/15.-Interphex.png
ORGANIZER;CN="Interphex":MAILTO:inquiry@interphex.com
END:VEVENT
BEGIN:VEVENT
DTSTART;VALUE=DATE:20260430
DTEND;VALUE=DATE:20260501
DTSTAMP:20260423T221915
CREATED:20260408T155327Z
LAST-MODIFIED:20260408T155356Z
UID:20410-1777507200-1777593599@ntint.com
SUMMARY:PDA Southern California Chapter - Women in Life Sciences
DESCRIPTION:Connect with Cheryl Zamand-Zadeh at the PDA Southern California Chapter: Women in Life Sciences\n  \nRegister Here: PDA Southern California Chapter | PDA
URL:https://ntint.com/event/20410/
ATTACH;FMTTYPE=image/png:https://ntint.com/wp-content/uploads/2026/04/16.-PDA-SoCal-Devices-and-Women-in-Life-Sciences-2.png
END:VEVENT
BEGIN:VEVENT
DTSTART;TZID=Asia/Singapore:20260505T100000
DTEND;TZID=Asia/Singapore:20260505T120000
DTSTAMP:20260423T221915
CREATED:20260422T185614Z
LAST-MODIFIED:20260422T185614Z
UID:20434-1777975200-1777982400@ntint.com
SUMMARY:Webinar - Stability Data Evaluation and Trend Analysis per ICH Q1E
DESCRIPTION:Stability Data Evaluation and Trend Analysis per ICH Q1E: Principles and Best Practices \nWebinar \n5 May 2026| Tuesday| 10:00AM\, SGT \nRegistration Link: https://tinyurl.com/NovatekSTB \nVivien Santillan – Novatek International \nKim HuynhBa – PHARMALYTIK \n  \nIn an era where product quality\, regulatory alignment\, and data-driven decision‑making define competitive advantage\, the ability to evaluate stability data with scientific rigor has never been more essential. ICH Q1E remains a cornerstone guideline for establishing\, justifying\, and defending shelf-life decisions—yet its practical application continues to challenge many organizations\, especially as data volumes grow and digital transformation accelerates. \n  \nJoin us for a focused and highly practical webinar designed to strengthen your understanding of stability data evaluation and trend analysis in accordance with ICH Q1E. This session brings together deep regulatory insight\, scientific grounding\, and modern digital approaches to help you elevate your stability program and lifecycle management strategies. \n#Digitalization #Digitization #PharmaCompliance #RegulatoryCompliance #QualityManufacturing #DigitalTransformation #PharmaQuality #DrugManufacturing #GMPCompliance #RegulatoryTech #ContaminationControl #QualityManagement #ProcessAutomation #PharmaTechSolutions #ComplianceSoftware #LIMSolutions #PharmaRegulatory #BiotechSoftware #PharmaDigitalization #DataDrivenDecisions #RegulatorySolutions #LifeScienceTech #ManufacturingSolutions #ProductSafety #EUAnnex1 #InnovationInPharma #ComplianceManagement #RegulatoryStandards #PharmaInnovation #QualityAssurance #ComplianceIntegration #PharmaDataManagement #RegulatoryRequirements #DigitalCompliance #PharmaAutomation #ComplianceUpdates #RegulatoryAdherence
URL:https://ntint.com/event/webinar-stability-data-evaluation-and-trend-analysis-per-ich-q1e/
ATTACH;FMTTYPE=image/png:https://ntint.com/wp-content/uploads/2026/04/NTINT-Webinar-Stability-2026-May.png
ORGANIZER;CN="Novatek International":MAILTO:webinars@ntint.com
END:VEVENT
BEGIN:VEVENT
DTSTART;VALUE=DATE:20260512
DTEND;VALUE=DATE:20260514
DTSTAMP:20260423T221915
CREATED:20260417T144217Z
LAST-MODIFIED:20260417T150759Z
UID:20422-1778544000-1778716799@ntint.com
SUMMARY:PDA APAC - Pharmaceutical Manufacturing & Quality Conference 2026
DESCRIPTION:Come meet Neeraj Choudhary \, Regional Director at Novatek International\, at the PDA APAC Pharmaceutical Manufacturing & Quality Conference 2026 in Singapore!\n  \nRegister Here
URL:https://ntint.com/event/pda-apac-pharmaceutical-manufacturing-quality-conference-2026/
ATTACH;FMTTYPE=image/png:https://ntint.com/wp-content/uploads/2026/04/17.-PDA-APAC-Singapore.png
END:VEVENT
BEGIN:VEVENT
DTSTART;VALUE=DATE:20260514
DTEND;VALUE=DATE:20260515
DTSTAMP:20260423T221915
CREATED:20260417T151353Z
LAST-MODIFIED:20260417T151353Z
UID:20428-1778716800-1778803199@ntint.com
SUMMARY:PDA Metro - Chapter Day
DESCRIPTION:Looking forward to Susan Cleary‘s talk at the PDA Metro Chapter – Chapter day event on May 14\, in Ridgefield New Jersey.\n  \nDon’t forget to also introduce yourself to Nicholas Gavrielides from our team to learn more about how to start reducing risk in your process.\n  \nRegister Here\n  \nKey highlights of the agenda include: \n\nContamination Control and Annex 1 with a focus on trending and pattern recognition\nData Integrity 2026\, exploring upcoming expectations and practical readiness strategies\nArtificial Intelligence Applications in streamlining SOP development and improving operational efficiency\nDrug Repurposing Approaches\, from advanced algorithms to regulatory approvals\nAuditing of Pharmaceutical Microbiology Laboratories and strengthening quality systems\nCDMO Capabilities for Advanced Therapies\, including gene and cell therapies\nRisk-Based Packaging Qualification in CDMOs\nGlobal Aseptic Processing Compliance Trends: Enforcement data insights across FDA\, EMA\, and PIC/S agencies.\nContainer Closure Integrity Testing (CCIT) strategies aligned with global regulatory frameworks\n\n  \nRegister Here
URL:https://ntint.com/event/pda-metro-chapter-day/
ATTACH;FMTTYPE=image/png:https://ntint.com/wp-content/uploads/2026/04/19.-PDA-Metro-Chapter-Day.png
END:VEVENT
BEGIN:VEVENT
DTSTART;VALUE=DATE:20260518
DTEND;VALUE=DATE:20260520
DTSTAMP:20260423T221915
CREATED:20260420T144046Z
LAST-MODIFIED:20260422T185157Z
UID:20430-1779062400-1779235199@ntint.com
SUMMARY:StabilityHub - Pharmaceutical Stability Discussion Group (PSDG)
DESCRIPTION:We’re thrilled to announce that Corinne Cleary\, will be speaking at the upcoming StabilityHub: Pharmaceutical Stability Discussion Group (PSDG) In‑Person Meeting – Spring 2026\, taking place May 17–19 in Wilson\, NC (Raleigh/Durham area)! \nThis premier event brings together stabilitarians\, industry stakeholders\, and service providers for presentations\, Q&A sessions\, benchmarking discussions\, best practices exchanges\, vendor exhibits\, and a facility tour focused on advancing knowledge in pharmaceutical stability and manufacturing. \nWe’re also excited that Gregory Froundjian will be attending — ready to help you reduce risk in your pharmaceutical manufacturing process and share insights on improving stability practices. \n👉 Register for the PSDG Spring 2026 meeting and secure your spot: https://lnkd.in/eA-ZVvb7 \nWhether you’re looking to connect with peers\, gain practical knowledge\, or elevate your stability strategies\, this event is a must‑attend for industry professionals.
URL:https://ntint.com/event/stabilityhub-pharmaceutical-stability-discussion-group-psdg/
ATTACH;FMTTYPE=image/png:https://ntint.com/wp-content/uploads/2026/04/18.-StabilityHub-PSDG.png
END:VEVENT
END:VCALENDAR