BEGIN:VCALENDAR
VERSION:2.0
PRODID:-//Novatek International - ECPv6.15.20//NONSGML v1.0//EN
CALSCALE:GREGORIAN
METHOD:PUBLISH
X-ORIGINAL-URL:https://ntint.com
X-WR-CALDESC:Events for Novatek International
REFRESH-INTERVAL;VALUE=DURATION:PT1H
X-Robots-Tag:noindex
X-PUBLISHED-TTL:PT1H
BEGIN:VTIMEZONE
TZID:UTC
BEGIN:STANDARD
TZOFFSETFROM:+0000
TZOFFSETTO:+0000
TZNAME:UTC
DTSTART:20210101T000000
END:STANDARD
END:VTIMEZONE
BEGIN:VEVENT
DTSTART;TZID=UTC:20220427T080000
DTEND;TZID=UTC:20220429T170000
DTSTAMP:20260424T210439
CREATED:20220107T001505Z
LAST-MODIFIED:20220112T000417Z
UID:18743-1651046400-1651251600@ntint.com
SUMMARY:HYBRID CONFERENCE & SPEAKER: KENX Cleanroom Validation\, Disinfection & EM
DESCRIPTION:SAVE $200 off your registration with CODE: Novatek200 \nWith the impending changes of Annex 1 as it applies the sterile environment and FDA’s Quality Consideration in Non-Sterile Drug Manufacturing Draft Guidance\, the time has never been greater to ensure you have procedures mastered to comply with regulatory authorities. KENX’s hybrid conference showcases those paving the way in best practices in cleanroom qualification\, disinfection\, contamination control\, environmental monitoring and more. As a bonus\, the event is co-located with Cleaning Validation and Critical Cleaning Processes and has over 40 tutorials to enhance your professional development. \nJoin KENX at industry’s cleanroom validation event of the year! Whether you’re in QA\, validation\, or engineering; a novice or advanced professional; or\, attending in-person or online\, this is your chance to network with over 200 of like-minded colleagues in the FDA-regulated environment. \nNovatek Speaker Session: \nTrending as part of a contamination control strategy  \nSusan Cleary B.CS\, EMBA – Direct Product Development\, Novatek International \n\nOverview on regulations and guidelines on EM data analysis\nUnderstand EM Trending Requirements\nLearn How to Trend & Analyze Environmental Monitoring Data\nConsiderations for EM data analysis using computerized systems\n\nTakeaway Tools \n\nExample Trend Reports\nRoot cause assessment data fields list\nTrending requirements examples for on demand\, weekly\, monthly\, quarterly\, and annual review
URL:https://ntint.com/event/hybrid-conference-kenx-cleanroom-validation-disinfection-em/
CATEGORIES:Conference,Virtual Conference
ATTACH;FMTTYPE=image/png:https://ntint.com/wp-content/uploads/2016/05/novatek-international-event.png
ORGANIZER;CN="KENX":MAILTO:info@kenx.org
END:VEVENT
BEGIN:VEVENT
DTSTART;TZID=UTC:20220425T080000
DTEND;TZID=UTC:20220427T170000
DTSTAMP:20260424T210439
CREATED:20220423T191843Z
LAST-MODIFIED:20220423T191843Z
UID:18907-1650873600-1651078800@ntint.com
SUMMARY:2022 ISPE Europe Annual Conference
DESCRIPTION:Sustainability\, Annex 1\, Digital Quality\, Trends in Pharmaceutical Engineering and Project Management\nInnovation in the market\, digital transformation\, current trends\, successful realizations\, new strategies\, and concepts will be the focus of the 2022 ISPE Europe Annual Conference in Madrid\, Spain. The programme offers an Executive Forum\, dynamic keynote speakers\, four robust tracks and innovative and attractive plant tours. \nJoin us in Madrid\, Spain and learn from case studies about different approaches and applications. You will have the opportunity to meet Novatek’s CEO and Europe Team.  Find us at Booth #4. \nLets converse and exchange experiences about the best ways to approach your company’s digital transformation together! \n 
URL:https://ntint.com/event/2022-ispe-europe-annual-conference/
LOCATION:Hotel Meliá Avenida América\, Calle de Juan Ignacio Luca de Tena\, 36\, Madrid\, Spain
CATEGORIES:Conference
ATTACH;FMTTYPE=image/png:https://ntint.com/wp-content/uploads/2016/05/novatek-international-event.png
END:VEVENT
BEGIN:VEVENT
DTSTART;VALUE=DATE:20220407
DTEND;VALUE=DATE:20220408
DTSTAMP:20260424T210439
CREATED:20220107T003215Z
LAST-MODIFIED:20220117T171734Z
UID:18749-1649289600-1649375999@ntint.com
SUMMARY:WORKSHOP: A3P Microbiology
DESCRIPTION:Workshop 1:\nDoing Digtal or Being Digtial ?\nMarc Voderman\nWorkshop 2 &3:\nANNEX-1 Total contamination control using automation\nMarc Voderman\n\n\n\n\nMicrobiological control in the pharmaceutical industry is one of the fundamental pillars to have safe medicines in the market. \nThis year\, your reference association and the A3P Spain Committee invite you to participate in the presential event within the framework of microbiological quality control: \nIncorporate rapid microbiology into pharmaceutical production processes increases productivity and safety\, allows for earlier detection of any contamination and for fast and effective action. \n\n\n\n\nSimultaneous interpretation: English / Spanish
URL:https://ntint.com/event/workshop-a3p-microbiology/
CATEGORIES:Conference
ATTACH;FMTTYPE=image/png:https://ntint.com/wp-content/uploads/2016/05/novatek-international-event.png
END:VEVENT
BEGIN:VEVENT
DTSTART;VALUE=DATE:20220404
DTEND;VALUE=DATE:20220407
DTSTAMP:20260424T210439
CREATED:20211217T022334Z
LAST-MODIFIED:20211217T022413Z
UID:18716-1649030400-1649289599@ntint.com
SUMMARY:SPEAKER: 2022 PDA Annual Meeting
DESCRIPTION:Level Up: Agility in the New Normal \nThis Conference will focus on the theme to Level Up: Agility in the New Normal! We will highlight what’s in store for the future of pharmaceutical manufacturing. Examine how companies are developing new modalities and adapting to the current manufacturing environment through the modernization of aging facilities and the adoption of innovative approaches and processes. \nASEPTIC PROCESSING & STERILIZATION SPEAKER:\nDAY 2: Tuesday April 5\, 2022 \nStrategies for Total Contamination Control in an Aseptic Environment\n \nSheba Zaman\, Head of Product Specialists and Training Services\, Novatek \nCome also see us at BOOTH 406 in the Exhibitor Hall!
URL:https://ntint.com/event/speaker-2022-pda-annual-meeting/
LOCATION:Hyatt Regency Dallas\, 300 Reunion Boulevard\, Dallas\, TX\, United States
CATEGORIES:Conference
ATTACH;FMTTYPE=image/png:https://ntint.com/wp-content/uploads/2016/05/novatek-international-event.png
END:VEVENT
BEGIN:VEVENT
DTSTART;TZID=UTC:20220328T080000
DTEND;TZID=UTC:20220330T170000
DTSTAMP:20260424T210439
CREATED:20220107T002013Z
LAST-MODIFIED:20220112T000204Z
UID:18745-1648454400-1648659600@ntint.com
SUMMARY:HYBRID CONFERENCE & SPEAKER: KENX Validation University
DESCRIPTION:SAVE $200 off your registration with CODE: Novatek200 \n55 Tutorials Overflowing with Rich Content and Tangible Takeaways for the CQV Universe\nFacility Commissioning & Equipment Qualification\n\nImplement a Risk-based Verification Strategy\nDesign a Risk-based IQ\, OQ\, and PQ Approach\nManage Process Validation Tech Transfers\nQualify Critical Utility Systems – HVAC\, Water and Gas\n\nProcess Validation\n\nLearn How To Use Statistics in Validation – Statistics for Non-Statisticians\nImplement a 3-Stage Process Validation Approach\nMaster the Validation Master Plan (VMP)\nConduct Risk-based Continued Process Verfications\n\n Cleaning Validation\n\nUnderstand Key Elements to a Successful Program\nEstablish Cleaning Residue Limits and Acceptance Criteria\nEstablishing Bioburden and Endotoxin limits for Sterile and Non-sterile Products and Processes\nReceive a Cleaning Validation Assessment Checklist Example\n\n Computer System Validation\n\nStay up to speed with FDA’s Computer Software Assurance proposed draft\nImplement a Risk-Based CSV Program Enterprise-Wide\nDevelop and Validate SAAS\, IAAS\, and Other Software Programs\nQualify Network Infrastructure and Cloud Environments\n\n\nPersonnel In The Following Environments Should Attend:\n\nValidation\nQA/QC\nEngineering\nC&Q\nRegulatory and Compliance\nFacility Management\nManufacturing\nLaboratory
URL:https://ntint.com/event/hybrid-conference-speaker-kenx-validation-university/
CATEGORIES:Conference,Virtual Conference
ATTACH;FMTTYPE=image/png:https://ntint.com/wp-content/uploads/2016/05/novatek-international-event.png
ORGANIZER;CN="KENX":MAILTO:info@kenx.org
END:VEVENT
BEGIN:VEVENT
DTSTART;TZID=UTC:20220323T080000
DTEND;TZID=UTC:20220324T170000
DTSTAMP:20260424T210439
CREATED:20220307T154136Z
LAST-MODIFIED:20220307T154136Z
UID:18835-1648022400-1648141200@ntint.com
SUMMARY:Contamin@Lyon | Lyon France
DESCRIPTION:Novatek is looking forward to exhibiting at Contamin@Lyon this month.  Come find us at Booth 14. \nThis year’s conference theme is 2022 theme is “The fundamentals of the clean room”. \nAll sectors combined\, this conferences will deal with essential and varied topics in the world of clean rooms\, controlled environments and contaminants.
URL:https://ntint.com/event/contaminlyon-lyon-france/
LOCATION:La Sucrière\, 49-50 Quai Rambaud\, Lyon\, LYON\, 69002\, France
CATEGORIES:Conference
ATTACH;FMTTYPE=image/png:https://ntint.com/wp-content/uploads/2016/05/novatek-international-event.png
END:VEVENT
BEGIN:VEVENT
DTSTART;VALUE=DATE:20220308
DTEND;VALUE=DATE:20220309
DTSTAMP:20260424T210439
CREATED:20220303T033130Z
LAST-MODIFIED:20220303T033130Z
UID:18831-1646697600-1646783999@ntint.com
SUMMARY:PDA Southern California: Full Day Symposium-Risk Management
DESCRIPTION:Novatek is proud to be an annual sponsor for PDA’s Southern California Chapter.  All year long\, we will be working closely together bringing quality events to our industry peers.  Kicking off 2022 with our first sponsored event: \nPDA SoCal Chapter invites you to attend a Full Day Symposium-Risk Management \nRisk Management with a focus on Contamination Control risk mitigation\, Interventions and effects of facility design\, Risk prevention for refrigeration storage using an industry 4.0 solution. \n\nCompliance risks in the cleanroom\nMinimizing risk through RFID\nEmerging trends in risk management with regards to Data Integrity in Car-T\nRemote Audits\n\nOur Keynote Speakers:\n\nSue Schniepp\, Regulatory Compliance Associates\, Inc.\nDan Klein/Steris\nKevin McMurtrie/Veltek\nKimberley Buytaert-Hoefen\, Azzur\nFrances Grinstead/Curis Systems\nLinda Soo Hoo/Gilead\nRobert Chew/CAI\nCarl Patterson/ Latitude Pharma\nJoe Swigurski/Kite Pharma\nLarry Newman/ThermoFisher\nBiana Torres/ Crispr Therapeutics\nTeresa Henry/ Sequoia Consulting
URL:https://ntint.com/event/pda-southern-california-full-day-symposium-risk-management/
CATEGORIES:Conference,Expo
ATTACH;FMTTYPE=image/png:https://ntint.com/wp-content/uploads/2016/05/novatek-international-event.png
END:VEVENT
BEGIN:VEVENT
DTSTART;TZID=UTC:20220124T080000
DTEND;TZID=UTC:20220127T170000
DTSTAMP:20260424T210439
CREATED:20220106T235250Z
LAST-MODIFIED:20220106T235506Z
UID:18736-1643011200-1643302800@ntint.com
SUMMARY:CONFERENCE: Arab Health 2022
DESCRIPTION:Novatek will be attending Arab Health 2022 this January. \nJoin Arab Health\, at the Dubai World Trade Centre this January\, to create meaningful connections and support innovation in healthcare. Get the most out of your participation with the online tool allowing you to start networking before meeting face-to-face in Dubai.
URL:https://ntint.com/event/arab-health-2022/
LOCATION:Dubai World Trade Centre\, Sheikh Zayed Rd\, Dubai\, United Arab Emirates
CATEGORIES:Conference
ATTACH;FMTTYPE=image/png:https://ntint.com/wp-content/uploads/2016/05/novatek-international-event.png
END:VEVENT
END:VCALENDAR