BEGIN:VCALENDAR
VERSION:2.0
PRODID:-//Novatek International - ECPv6.15.20//NONSGML v1.0//EN
CALSCALE:GREGORIAN
METHOD:PUBLISH
X-ORIGINAL-URL:https://ntint.com
X-WR-CALDESC:Events for Novatek International
REFRESH-INTERVAL;VALUE=DURATION:PT1H
X-Robots-Tag:noindex
X-PUBLISHED-TTL:PT1H
BEGIN:VTIMEZONE
TZID:UTC
BEGIN:STANDARD
TZOFFSETFROM:+0000
TZOFFSETTO:+0000
TZNAME:UTC
DTSTART:20210101T000000
END:STANDARD
END:VTIMEZONE
BEGIN:VEVENT
DTSTART;TZID=UTC:20221011T080000
DTEND;TZID=UTC:20221012T170000
DTSTAMP:20260424T181737
CREATED:20220818T174945Z
LAST-MODIFIED:20220818T174945Z
UID:19157-1665475200-1665594000@ntint.com
SUMMARY:Cleaning Validation & HPAPI Manufacturing Summit | Munich
DESCRIPTION:This October we will bring together a dense variety of topics that will shed a light on the current situation in the world of cleaning validation and highly potent APIs manufacturing. \nNovatek will be both speaking and exhibiting at this event.  Come visit us at booth #5 to learn about Novatek’s full suite of contamination control software including our dedicated Cleaning Validation Software. \nIf you want to improve your knowledge and expand your network\, then the Cleaning Validation & HPAPI Manufacturing Summit is a great opportunity for communication with the pharmaceutical community.
URL:https://ntint.com/event/cleaning-validation-hpapi-manufacturing-summit-munich/
LOCATION:Holiday Inn Munich – City Centre
CATEGORIES:Conference
ATTACH;FMTTYPE=image/png:https://ntint.com/wp-content/uploads/2016/05/novatek-international-event.png
END:VEVENT
END:VCALENDAR